BEGIN:VCALENDAR
VERSION:2.0
PRODID:-//Franconia Berlin - ECPv6.15.20//NONSGML v1.0//EN
CALSCALE:GREGORIAN
METHOD:PUBLISH
X-WR-CALNAME:Franconia Berlin
X-ORIGINAL-URL:https://franconia-berlin.de/en
X-WR-CALDESC:Events for Franconia Berlin
REFRESH-INTERVAL;VALUE=DURATION:PT1H
X-Robots-Tag:noindex
X-PUBLISHED-TTL:PT1H
BEGIN:VTIMEZONE
TZID:UTC
BEGIN:STANDARD
TZOFFSETFROM:+0000
TZOFFSETTO:+0000
TZNAME:UTC
DTSTART:20250101T000000
END:STANDARD
END:VTIMEZONE
BEGIN:VEVENT
DTSTART;VALUE=DATE:20260603
DTEND;VALUE=DATE:20260604
DTSTAMP:20260421T180727
CREATED:20260316T065208Z
LAST-MODIFIED:20260316T065208Z
UID:770-1780444800-1780531199@franconia-berlin.de
SUMMARY:1. oM-Tag
DESCRIPTION:Interne Veranstaltung
URL:https://franconia-berlin.de/en/veranstaltung/1-om-tag/
END:VEVENT
END:VCALENDAR