BEGIN:VCALENDAR
VERSION:2.0
PRODID:-//Franconia Berlin - ECPv6.15.20//NONSGML v1.0//EN
CALSCALE:GREGORIAN
METHOD:PUBLISH
X-WR-CALNAME:Franconia Berlin
X-ORIGINAL-URL:https://franconia-berlin.de/en
X-WR-CALDESC:Events for Franconia Berlin
REFRESH-INTERVAL;VALUE=DURATION:PT1H
X-Robots-Tag:noindex
X-PUBLISHED-TTL:PT1H
BEGIN:VTIMEZONE
TZID:UTC
BEGIN:STANDARD
TZOFFSETFROM:+0000
TZOFFSETTO:+0000
TZNAME:UTC
DTSTART:20250101T000000
END:STANDARD
END:VTIMEZONE
BEGIN:VEVENT
DTSTART;VALUE=DATE:20260620
DTEND;VALUE=DATE:20260621
DTSTAMP:20260421T142040
CREATED:20260316T065214Z
LAST-MODIFIED:20260316T065214Z
UID:775-1781913600-1781999999@franconia-berlin.de
SUMMARY:DSC-Veranstaltung
DESCRIPTION:Interne Veranstaltung. Findet nicht auf dem Corpshaus statt.
URL:https://franconia-berlin.de/en/veranstaltung/dsc-veranstaltung-2/
END:VEVENT
END:VCALENDAR