BEGIN:VCALENDAR
VERSION:2.0
PRODID:-//Franconia Berlin - ECPv6.15.20//NONSGML v1.0//EN
CALSCALE:GREGORIAN
METHOD:PUBLISH
X-WR-CALNAME:Franconia Berlin
X-ORIGINAL-URL:https://franconia-berlin.de
X-WR-CALDESC:Veranstaltungen für Franconia Berlin
REFRESH-INTERVAL;VALUE=DURATION:PT1H
X-Robots-Tag:noindex
X-PUBLISHED-TTL:PT1H
BEGIN:VTIMEZONE
TZID:UTC
BEGIN:STANDARD
TZOFFSETFROM:+0000
TZOFFSETTO:+0000
TZNAME:UTC
DTSTART:20250101T000000
END:STANDARD
END:VTIMEZONE
BEGIN:VEVENT
DTSTART;VALUE=DATE:20260601
DTEND;VALUE=DATE:20260602
DTSTAMP:20260421T123321
CREATED:20260316T065207Z
LAST-MODIFIED:20260316T065207Z
UID:769-1780272000-1780358399@franconia-berlin.de
SUMMARY:2. oSC
DESCRIPTION:Interne Veranstaltung
URL:https://franconia-berlin.de/veranstaltung/2-osc-2/
END:VEVENT
END:VCALENDAR